BEGIN:VCALENDAR
VERSION:2.0
METHOD:PUBLISH
PRODID:-//Utilita Bowl//Fixtures Calendar//EN
BEGIN:VEVENT
SUMMARY:New Zealand Women v Sri Lanka Women T20 World Cup
UID:34169
DTSTART:20260616T143000
DTEND:20260616T173000
DTSTAMP:20260419T200001
LOCATION:
END:VEVENT
END:VCALENDAR