BEGIN:VCALENDAR
VERSION:2.0
METHOD:PUBLISH
PRODID:-//Utilita Bowl//Fixtures Calendar//EN
BEGIN:VEVENT
SUMMARY:New Zealand Women v Ireland Women T20 World Cup
UID:34171
DTSTART:20260619T183000
DTEND:20260619T213000
DTSTAMP:20260419T200001
LOCATION:
END:VEVENT
END:VCALENDAR