BEGIN:VCALENDAR
VERSION:2.0
METHOD:PUBLISH
PRODID:-//Utilita Bowl//Fixtures Calendar//EN
BEGIN:VEVENT
SUMMARY:Australia Women v The Netherlands Women T20 World Cup
UID:34172
DTSTART:20260620T103000
DTEND:20260620T133000
DTSTAMP:20260419T195756
LOCATION:
END:VEVENT
END:VCALENDAR