BEGIN:VCALENDAR
VERSION:2.0
METHOD:PUBLISH
PRODID:-//Utilita Bowl//Fixtures Calendar//EN
BEGIN:VEVENT
SUMMARY:Pakistan Women v Bangladesh Women T20 World Cup
UID:34173
DTSTART:20260620T143000
DTEND:20260620T173000
DTSTAMP:20260419T195522
LOCATION:
END:VEVENT
END:VCALENDAR