BEGIN:VCALENDAR
VERSION:2.0
METHOD:PUBLISH
PRODID:-//Utilita Bowl//Fixtures Calendar//EN
BEGIN:VEVENT
SUMMARY:Hampshire Women 2nd XI v Glamorgan Women
UID:34692
DTSTART:20260422T103000
DTEND:20260422T173000
DTSTAMP:20260421T124116
LOCATION:High Wycombe CC
END:VEVENT
END:VCALENDAR