BEGIN:VCALENDAR
VERSION:2.0
METHOD:PUBLISH
PRODID:-//Utilita Bowl//Fixtures Calendar//EN
BEGIN:VEVENT
SUMMARY:Hampshire Women 2nd XI v Essex Women 2nd XI
UID:34694
DTSTART:20260508T103000
DTEND:20260508T173000
DTSTAMP:20260421T210401
LOCATION:
END:VEVENT
END:VCALENDAR