BEGIN:VCALENDAR
VERSION:2.0
METHOD:PUBLISH
PRODID:-//Utilita Bowl//Fixtures Calendar//EN
BEGIN:VEVENT
SUMMARY:Hampshire Women 2nd XI v Surrey Women 2nd XI
UID:34695
DTSTART:20260508T150000
DTEND:20260508T180000
DTSTAMP:20260421T205719
LOCATION:
END:VEVENT
END:VCALENDAR