BEGIN:VCALENDAR
VERSION:2.0
METHOD:PUBLISH
PRODID:-//Utilita Bowl//Fixtures Calendar//EN
BEGIN:VEVENT
SUMMARY:Hampshire Women 2nd XI v Challengers Women
UID:34696
DTSTART:20260520T110000
DTEND:20260520T140000
DTSTAMP:20260421T210151
LOCATION:
END:VEVENT
END:VCALENDAR