BEGIN:VCALENDAR
VERSION:2.0
METHOD:PUBLISH
PRODID:-//Utilita Bowl//Fixtures Calendar//EN
BEGIN:VEVENT
SUMMARY:Hampshire Women 2nd XI v Essex Women 2nd XI
UID:34697
DTSTART:20260602T110000
DTEND:20260602T140000
DTSTAMP:20260421T205736
LOCATION:Wokingham CC
END:VEVENT
END:VCALENDAR