BEGIN:VCALENDAR
VERSION:2.0
METHOD:PUBLISH
PRODID:-//Utilita Bowl//Fixtures Calendar//EN
BEGIN:VEVENT
SUMMARY:Hampshire Women 2nd XI v South Asian Cricket Academy Women
UID:34699
DTSTART:20260630T103000
DTEND:20260630T173000
DTSTAMP:20260421T210151
LOCATION:
END:VEVENT
END:VCALENDAR