BEGIN:VCALENDAR
VERSION:2.0
METHOD:PUBLISH
PRODID:-//Utilita Bowl//Fixtures Calendar//EN
BEGIN:VEVENT
SUMMARY:Surrey Women 2nd XI v Hampshire Women 2nd XI
UID:34701
DTSTART:20260713T103000
DTEND:20260713T133000
DTSTAMP:20260421T210157
LOCATION:Chipstead Coulsdon & Walcountians CC
END:VEVENT
END:VCALENDAR