BEGIN:VCALENDAR
VERSION:2.0
METHOD:PUBLISH
PRODID:-//Utilita Bowl//Fixtures Calendar//EN
BEGIN:VEVENT
SUMMARY:Surrey Women 2nd XI v Hampshire Women 2nd XI
UID:34702
DTSTART:20260713T143000
DTEND:20260713T173000
DTSTAMP:20260421T205736
LOCATION:Chipstead Coulsdon & Walcountians CC
END:VEVENT
END:VCALENDAR