BEGIN:VCALENDAR
VERSION:2.0
METHOD:PUBLISH
PRODID:-//Utilita Bowl//Fixtures Calendar//EN
BEGIN:VEVENT
SUMMARY:ECB Women Development U19 v Hampshire Women 2nd XI
UID:34703
DTSTART:20260723T110000
DTEND:20260723T170000
DTSTAMP:20260421T210233
LOCATION:Brockington Ground, Loughborough
END:VEVENT
END:VCALENDAR