BEGIN:VCALENDAR
VERSION:2.0
METHOD:PUBLISH
PRODID:-//Utilita Bowl//Fixtures Calendar//EN
BEGIN:VEVENT
SUMMARY:Hampshire Women 2nd XI v ECB Women Development U19
UID:34704
DTSTART:20260807T110000
DTEND:20260807T170000
DTSTAMP:20260421T205731
LOCATION:High Wycombe CC
END:VEVENT
END:VCALENDAR